BEGIN:VCALENDAR
VERSION:2.0
PRODID:-//Canadian Society for Traditional Music - Société canadienne pour les traditions musicales - ECPv6.15.11//NONSGML v1.0//EN
CALSCALE:GREGORIAN
METHOD:PUBLISH
X-WR-CALNAME:Canadian Society for Traditional Music - Société canadienne pour les traditions musicales
X-ORIGINAL-URL:https://cstm-sctm.ca/fr/
X-WR-CALDESC:Événements pour Canadian Society for Traditional Music - Société canadienne pour les traditions musicales
REFRESH-INTERVAL;VALUE=DURATION:PT1H
X-Robots-Tag:noindex
X-PUBLISHED-TTL:PT1H
BEGIN:VTIMEZONE
TZID:America/Halifax
BEGIN:DAYLIGHT
TZOFFSETFROM:-0400
TZOFFSETTO:-0300
TZNAME:ADT
DTSTART:20240310T060000
END:DAYLIGHT
BEGIN:STANDARD
TZOFFSETFROM:-0300
TZOFFSETTO:-0400
TZNAME:AST
DTSTART:20241103T050000
END:STANDARD
BEGIN:DAYLIGHT
TZOFFSETFROM:-0400
TZOFFSETTO:-0300
TZNAME:ADT
DTSTART:20250309T060000
END:DAYLIGHT
BEGIN:STANDARD
TZOFFSETFROM:-0300
TZOFFSETTO:-0400
TZNAME:AST
DTSTART:20251102T050000
END:STANDARD
BEGIN:DAYLIGHT
TZOFFSETFROM:-0400
TZOFFSETTO:-0300
TZNAME:ADT
DTSTART:20260308T060000
END:DAYLIGHT
BEGIN:STANDARD
TZOFFSETFROM:-0300
TZOFFSETTO:-0400
TZNAME:AST
DTSTART:20261101T050000
END:STANDARD
END:VTIMEZONE
BEGIN:VEVENT
DTSTART;TZID=America/Halifax:20250902T080000
DTEND;TZID=America/Halifax:20250902T170000
DTSTAMP:20260420T111708
CREATED:20250902T153254Z
LAST-MODIFIED:20250902T153254Z
UID:3234-1756800000-1756832400@cstm-sctm.ca
SUMMARY:CFP / Appel à communications - Conference / Colloque 2025 (online/en ligne)
DESCRIPTION:Le français suit. \n \nThe Canadian Society for Traditional Music/Société canadienne pour les traditions musicales (CSTM/SCTM) invites scholars\, musicians\, community practitioners\, and students to submit proposals for our upcoming annual conference\, Technology and Musical Futures\, to be held virtually from November 20–22\, 2025.\n\nSubmit your abstract by September 21\, 2025 via this Google Forms link.\n\nSee the Call for Papers for more details\, including themes and formats. To learn more about the Canadian Society for Traditional Music\, visit https://cstm-sctm.ca/.\n\n\n***\n\nLa Société canadienne pour les traditions musicales/Canadian Society for Traditional Music (SCTM/CSTM) invite les chercheur·euse·s\, musicien·ne·s\, praticien·ne·s communautaires et étudiant·e·s à soumettre des propositions pour son colloque annuel\, Technologies et avenirs musicaux\, qui se tiendra en ligne du 20 au 22 novembre 2025.\n\nSoumettez votre proposition d’ici le 21 septembre 2025 au moyen de ce formulaire Google Forms.\n\nVeuillez consulter l’appel à communications pour plus de détails\, notamment sur les thèmes\, les formats et d’autres informations. Pour en savoir plus sur la Société canadienne pour les traditions musicales\, visitez https://cstm-sctm.ca/
URL:https://cstm-sctm.ca/fr/event/cfp-appel-a-communications-conference-colloque-2025-online-en-ligne/
END:VEVENT
END:VCALENDAR